BEGIN:VCALENDAR
VERSION:2.0
PRODID:-//Northern Neck 250 - ECPv6.15.16//NONSGML v1.0//EN
CALSCALE:GREGORIAN
METHOD:PUBLISH
X-ORIGINAL-URL:https://www.nnk250.us
X-WR-CALDESC:Events for Northern Neck 250
REFRESH-INTERVAL;VALUE=DURATION:PT1H
X-Robots-Tag:noindex
X-PUBLISHED-TTL:PT1H
BEGIN:VTIMEZONE
TZID:America/New_York
BEGIN:DAYLIGHT
TZOFFSETFROM:-0500
TZOFFSETTO:-0400
TZNAME:EDT
DTSTART:20250309T070000
END:DAYLIGHT
BEGIN:STANDARD
TZOFFSETFROM:-0400
TZOFFSETTO:-0500
TZNAME:EST
DTSTART:20251102T060000
END:STANDARD
BEGIN:DAYLIGHT
TZOFFSETFROM:-0500
TZOFFSETTO:-0400
TZNAME:EDT
DTSTART:20260308T070000
END:DAYLIGHT
BEGIN:STANDARD
TZOFFSETFROM:-0400
TZOFFSETTO:-0500
TZNAME:EST
DTSTART:20261101T060000
END:STANDARD
BEGIN:DAYLIGHT
TZOFFSETFROM:-0500
TZOFFSETTO:-0400
TZNAME:EDT
DTSTART:20270314T070000
END:DAYLIGHT
BEGIN:STANDARD
TZOFFSETFROM:-0400
TZOFFSETTO:-0500
TZNAME:EST
DTSTART:20271107T060000
END:STANDARD
END:VTIMEZONE
BEGIN:VEVENT
DTSTART;VALUE=DATE:20260606
DTEND;VALUE=DATE:20260608
DTSTAMP:20260425T072323
CREATED:20260213T030740Z
LAST-MODIFIED:20260421T164637Z
UID:1639-1780704000-1780876799@www.nnk250.us
SUMMARY:Virginia Resolved
DESCRIPTION:Commemorate the 250th anniversary of Richard Henry Lee’s Resolution for Independence with Stratford Hall\, Westmoreland County\, and VA250! Plan for a weekend of revolutionary activity: https://tickets.stratfordhall.org/section/virginia-resolved-ed8k  \nSaturday\, June 6 \n10:00 AM – 5:00 PM The Great House\, Grounds and Visitor Center will be open for regular admission\, with the inclusion of the VA250 mobile museum.  \n5:00 – 7:30 PM Country dinner buffet with family-style seating in the Stratford Hall Dining Room. Advance reservation required. Get tickets: https://tickets.stratfordhall.org/event/virginia-resolved-buffet-dinner-s6lqxc  \n6:00 PM RSVP to let us know you’re coming and bring your friends and family for a FREE celebration\, including:  \n\nVA250 Mobile Museum \n\n\nDJ music \n\n\nFood trucks \n\n\nWine sales from Ingleside Vineyards \n\n\nBeer sales from the Al Pugh Distributing truck \n\nFREE RSVP: https://tickets.stratfordhall.org/event/virginia-resolved-free-evening-program-11yrhh  \n 8:00 – 9:30 PM The Virginia Resolved stage program\, featuring:  \n\nPatriotic music performances by The United States Navy Concert Band \n\n\nRichard Henry Lee and his Resolution for Independence \n\n\nSpeakers and Keynote by Carly Fiorina\, VA250 National Honorary Chair \n\n\nAn incredible fireworks show over the Great House! \n\n No outside food or drinks; lawn chairs and picnic blankets encouraged. Visitors ages 21+ must present a valid ID when purchasing wine and beer. Due to the fireworks\, we kindly request that dogs remain at home.  \n Sunday\, June 7 \nGet tickets now for this can’t-miss day of living history at Stratford Hall. Tickets are $15 ages 14+\, $10 ages 6-13\, and free for ages 5 & under: https://tickets.stratfordhall.org/event/virginia-resolved-wluzjn  \n10:00 AM – 5:00 PM Great House\, Grounds\, Visitor Center and VA250 Mobile Museum Open  \n12:00 – 4:00 PM Virginia Resolved Living History Program:  \n\nCitizenship Ceremony at 12:00 PM \n\n\nDiscussions with Richard Henry Lee and Hannah Corbin Lee \n\n\n1st and 4th Continental Light Dragoon Cavalry Drills \n\n\nSons of the American Revolution Musket Demonstrations \n\n\nColonial Music by Ampersand \n\n\nPatawomeck Eel Pot Demonstrations \n\n\nColonial Foodways Demonstrations in the Historic Kitchen \n\n\nChocolate Demonstrations in the Gift Shop \n\n\nColonial Games and Activities \n\n\nCommunity Partner Booths \n\n\nMontross Middle School Art Show & Performances \n\n\nFood Trucks \n\n Free admission (proper identification required at check-in): Westmoreland County residents\, Friends of Stratford members\, Blue Star Families\, and Museums for All participants.  \n 
URL:https://www.nnk250.us/event/virginia-resolved
LOCATION:Stratford Hall\, 483 Great House Road\, Stratford\, VA\, 22558\, United States
CATEGORIES:Commemoration,Community,Concert,Exhibit,Festival,Living History
ATTACH;FMTTYPE=image/jpeg:https://www.nnk250.us/wp-content/uploads/2026/01/1.9.26-Stratford-Hall-Press-Release-Image-2-1.jpg
END:VEVENT
END:VCALENDAR